BEGIN:VCALENDAR
VERSION:2.0
PRODID:-//MaâtMov - ECPv6.15.18//NONSGML v1.0//EN
CALSCALE:GREGORIAN
METHOD:PUBLISH
X-ORIGINAL-URL:https://maatmov.com
X-WR-CALDESC:Évènements pour MaâtMov
REFRESH-INTERVAL;VALUE=DURATION:PT1H
X-Robots-Tag:noindex
X-PUBLISHED-TTL:PT1H
BEGIN:VTIMEZONE
TZID:Europe/Paris
BEGIN:DAYLIGHT
TZOFFSETFROM:+0100
TZOFFSETTO:+0200
TZNAME:CEST
DTSTART:20250330T010000
END:DAYLIGHT
BEGIN:STANDARD
TZOFFSETFROM:+0200
TZOFFSETTO:+0100
TZNAME:CET
DTSTART:20251026T010000
END:STANDARD
BEGIN:DAYLIGHT
TZOFFSETFROM:+0100
TZOFFSETTO:+0200
TZNAME:CEST
DTSTART:20260329T010000
END:DAYLIGHT
BEGIN:STANDARD
TZOFFSETFROM:+0200
TZOFFSETTO:+0100
TZNAME:CET
DTSTART:20261025T010000
END:STANDARD
BEGIN:DAYLIGHT
TZOFFSETFROM:+0100
TZOFFSETTO:+0200
TZNAME:CEST
DTSTART:20270328T010000
END:DAYLIGHT
BEGIN:STANDARD
TZOFFSETFROM:+0200
TZOFFSETTO:+0100
TZNAME:CET
DTSTART:20271031T010000
END:STANDARD
END:VTIMEZONE
BEGIN:VEVENT
DTSTART;TZID=Europe/Paris:20260515T190000
DTEND;TZID=Europe/Paris:20260515T200000
DTSTAMP:20260423T221603
CREATED:20260422T113547Z
LAST-MODIFIED:20260422T113547Z
UID:4444-1778871600-1778875200@maatmov.com
SUMMARY:Sète : La Baraquette Citoyenne accueille Tantura
DESCRIPTION:Le vendredi 15 mai 2026 à 19h00\, La Baraquette Citoyenne (31 rue Révolution\, Sète) accueille la projection de Tantura d’Alon Schwarz\, suivie d’un débat. Un documentaire qui exhume une page douloureuse de l’histoire de 1948 et interroge avec rigueur la manière dont les sociétés construisent ou taisent leur mémoire collective. \nEn 1948\, des centaines de villages palestiniens sont dépeuplés. Pour les Israéliens\, c’est la guerre d’indépendance. Pour les Palestiniens\, c’est la « la Nakba » – la Catastrophe. Tantura est l’un de ces villages\, lieu d’un massacre présumé dont le souvenir a été soigneusement effacé. Le réalisateur Alon Schwarz donne la parole aux témoins des deux côtés\, anciens soldats israéliens et résidents palestiniens\, pour reconstituer ce qui s’est passé\, et comprendre pourquoi la Nakba demeure aujourd’hui encore un sujet tabou dans la société israélienne. \nUn film qui ne juge pas\, mais qui exige que l’on regarde. La projection sera suivie d’un temps d’échange ouvert à toutes et tous.
URL:https://maatmov.com/evenement/sete-la-baraquette-citoyenne-accueille-tantura/
LOCATION:La Baraquette Citoyenne\, 31 Rue de la Révolution\, 34200 Sète\, France\, Sète\, 34200\, France
CATEGORIES:Ciné–débats
ATTACH;FMTTYPE=image/jpeg:https://maatmov.com/wp-content/uploads/2025/04/maatmov-default-featured-img.jpg
END:VEVENT
BEGIN:VEVENT
DTSTART;TZID=Europe/Paris:20260521T210000
DTEND;TZID=Europe/Paris:20260521T230000
DTSTAMP:20260423T221603
CREATED:20260422T114214Z
LAST-MODIFIED:20260422T114214Z
UID:4448-1779397200-1779404400@maatmov.com
SUMMARY:Angers : L'Espace Mistral présente Tantura\, l'histoire à l'épreuve des témoignages
DESCRIPTION:Le jeudi 21 mai 2026 à 21h00\, l’Espace Mistral (4 allée des Baladins\, Angers) projette Tantura\, le documentaire d’Alon Schwarz qui confronte mémoires israéliennes et palestiniennes sur l’un des épisodes les plus sensibles de 1948. La projection sera suivie d’un débat. \nAu-delà de Tantura\, c’est la question de « la Nakba » – la Catastrophe qui est au cœur du film : pourquoi ce mot reste-t-il tabou en Israël ? Comment une société construit-elle l’oubli ? Et que coûte\, pour ceux qui l’ont vécu\, de garder le silence toute une vie ? Tantura ne répond pas à tout mais il pose les questions avec une force qui ne laisse pas indemne.
URL:https://maatmov.com/evenement/angers-lespace-mistral-presente-tantura-lhistoire-a-lepreuve-des-temoignages/
LOCATION:Espace Frédéric Mistral\, 4 All. des Baladins\, Angers\, 49000\, France
CATEGORIES:Ciné–débats
ATTACH;FMTTYPE=image/jpeg:https://maatmov.com/wp-content/uploads/2025/04/maatmov-default-featured-img.jpg
END:VEVENT
BEGIN:VEVENT
DTSTART;TZID=Europe/Paris:20260529T200000
DTEND;TZID=Europe/Paris:20260529T220000
DTSTAMP:20260423T221603
CREATED:20260414T092927Z
LAST-MODIFIED:20260415T141020Z
UID:4434-1780084800-1780092000@maatmov.com
SUMMARY:Céret — Tantura\, un film pour regarder l'histoire en face
DESCRIPTION:Il y a des vérités que l’histoire officielle préfère enfouir. Rejoignez-nous le mardi 29 mai 2026 à 20h00 à la Salle de l’Union (Parking des Marronniers\, Céret) pour la projection de Tantura d’Alon Schwarz\, suivie d’un débat. Un documentaire courageux qui ose poser les questions que beaucoup refusent encore d’entendre.
URL:https://maatmov.com/evenement/ceret-tantura-un-film-pour-regarder-lhistoire-en-face/
LOCATION:Salle de l’Union\, Parking des Marronniers\, Céret\, 66400\, France
CATEGORIES:Ciné–débats
ATTACH;FMTTYPE=image/jpeg:https://maatmov.com/wp-content/uploads/2025/04/maatmov-default-featured-img.jpg
END:VEVENT
END:VCALENDAR