BEGIN:VCALENDAR
VERSION:2.0
PRODID:-//MaâtMov - ECPv6.15.18//NONSGML v1.0//EN
CALSCALE:GREGORIAN
METHOD:PUBLISH
X-ORIGINAL-URL:https://maatmov.com
X-WR-CALDESC:Évènements pour MaâtMov
REFRESH-INTERVAL;VALUE=DURATION:PT1H
X-Robots-Tag:noindex
X-PUBLISHED-TTL:PT1H
BEGIN:VTIMEZONE
TZID:Europe/Paris
BEGIN:DAYLIGHT
TZOFFSETFROM:+0100
TZOFFSETTO:+0200
TZNAME:CEST
DTSTART:20240331T010000
END:DAYLIGHT
BEGIN:STANDARD
TZOFFSETFROM:+0200
TZOFFSETTO:+0100
TZNAME:CET
DTSTART:20241027T010000
END:STANDARD
BEGIN:DAYLIGHT
TZOFFSETFROM:+0100
TZOFFSETTO:+0200
TZNAME:CEST
DTSTART:20250330T010000
END:DAYLIGHT
BEGIN:STANDARD
TZOFFSETFROM:+0200
TZOFFSETTO:+0100
TZNAME:CET
DTSTART:20251026T010000
END:STANDARD
BEGIN:DAYLIGHT
TZOFFSETFROM:+0100
TZOFFSETTO:+0200
TZNAME:CEST
DTSTART:20260329T010000
END:DAYLIGHT
BEGIN:STANDARD
TZOFFSETFROM:+0200
TZOFFSETTO:+0100
TZNAME:CET
DTSTART:20261025T010000
END:STANDARD
END:VTIMEZONE
BEGIN:VEVENT
DTSTART;TZID=Europe/Paris:20250617T210000
DTEND;TZID=Europe/Paris:20250617T220000
DTSTAMP:20260424T154259
CREATED:20250611T164139Z
LAST-MODIFIED:20250703T105620Z
UID:3582-1750194000-1750197600@maatmov.com
SUMMARY:Projection-débat exceptionnelle de Tantura au Cinéma Venise Verte
DESCRIPTION:Le Cinéma Venise Verte vous invite à une soirée spéciale le mardi 17 juin 2025 à 21h00 autour du documentaire Tantura réalisé par Alon Schwarz.Cette projection sera suivie d’un débat ouvert au public\, l’occasion d’échanger autour des thèmes abordés dans le film. \nTantura revient sur un épisode méconnu et controversé de la guerre de 1948\, à la création de l’État d’Israël. À travers des témoignages d’anciens soldats israéliens et de survivants palestiniens\, le film interroge la disparition de centaines de villages palestiniens\, et plus particulièrement les événements survenus dans le village de Tantura.Ce documentaire puissant met en lumière le déni persistant de la Nakba dans la société israélienne et bouscule les récits établis.
URL:https://maatmov.com/evenement/projection-debat-exceptionnelle-de-tantura-au-cinema-venise-verte/
LOCATION:Cinéma Venise Verte\, 3 Imp. Ciné Venise Verte\, Saint-Hilaire-la-Palud\, 79210\, France
CATEGORIES:Ciné–débats
ATTACH;FMTTYPE=image/jpeg:https://maatmov.com/wp-content/uploads/2025/04/maatmov-default-featured-img.jpg
END:VEVENT
BEGIN:VEVENT
DTSTART;TZID=Europe/Paris:20250619T190000
DTEND;TZID=Europe/Paris:20250619T220000
DTSTAMP:20260424T154259
CREATED:20250619T111027Z
LAST-MODIFIED:20250703T105553Z
UID:3629-1750359600-1750370400@maatmov.com
SUMMARY:Projection-débat à l'AFPS Pays de Saint-Malo : Tantura\, un documentaire bouleversant sur la mémoire et le déni
DESCRIPTION:L’AFPS Pays de Saint-Malo vous invite à une projection-débat exceptionnelle autour du documentaire Tantura\, réalisé par Alon Schwarz\, le jeudi 19 juin 2025 à 19h15\, à la Maison des associations – 19 rue de la Chaussée\, 35400 Saint-Malo. \nCe film puissant explore un chapitre sombre et méconnu de l’histoire du conflit israélo-palestinien : le massacre présumé du village palestinien de Tantura en 1948\, au moment de la création de l’État d’Israël. À travers les témoignages croisés d’anciens soldats israéliens et de survivants palestiniens\, le réalisateur interroge les silences\, les tabous et les récits historiques opposés qui entourent la Nakba\, littéralement « la Catastrophe » pour les Palestiniens. \nPourquoi ces événements restent-ils si sensibles\, voire niés\, dans la société israélienne ? Que révèle ce documentaire sur le traitement de la mémoire collective ? La projection sera suivie d’un temps d’échange avec le public\, pour approfondir ces questions et réfléchir ensemble aux enjeux de mémoire et de justice.
URL:https://maatmov.com/evenement/projection-debat-a-lafps-pays-de-saint-malo-tantura-un-documentaire-bouleversant-sur-la-memoire-et-le-deni/
LOCATION:AFPS Saint-Malo\, 19 rue de la chaussée\, Saint Malo\, 35400\, France
CATEGORIES:Ciné–débats
ATTACH;FMTTYPE=image/jpeg:https://maatmov.com/wp-content/uploads/2025/04/maatmov-default-featured-img.jpg
END:VEVENT
END:VCALENDAR