BEGIN:VCALENDAR
VERSION:2.0
PRODID:-//MaâtMov - ECPv6.15.18//NONSGML v1.0//EN
CALSCALE:GREGORIAN
METHOD:PUBLISH
X-ORIGINAL-URL:https://maatmov.com
X-WR-CALDESC:Évènements pour MaâtMov
REFRESH-INTERVAL;VALUE=DURATION:PT1H
X-Robots-Tag:noindex
X-PUBLISHED-TTL:PT1H
BEGIN:VTIMEZONE
TZID:Europe/Paris
BEGIN:DAYLIGHT
TZOFFSETFROM:+0100
TZOFFSETTO:+0200
TZNAME:CEST
DTSTART:20240331T010000
END:DAYLIGHT
BEGIN:STANDARD
TZOFFSETFROM:+0200
TZOFFSETTO:+0100
TZNAME:CET
DTSTART:20241027T010000
END:STANDARD
BEGIN:DAYLIGHT
TZOFFSETFROM:+0100
TZOFFSETTO:+0200
TZNAME:CEST
DTSTART:20250330T010000
END:DAYLIGHT
BEGIN:STANDARD
TZOFFSETFROM:+0200
TZOFFSETTO:+0100
TZNAME:CET
DTSTART:20251026T010000
END:STANDARD
BEGIN:DAYLIGHT
TZOFFSETFROM:+0100
TZOFFSETTO:+0200
TZNAME:CEST
DTSTART:20260329T010000
END:DAYLIGHT
BEGIN:STANDARD
TZOFFSETFROM:+0200
TZOFFSETTO:+0100
TZNAME:CET
DTSTART:20261025T010000
END:STANDARD
END:VTIMEZONE
BEGIN:VEVENT
DTSTART;TZID=Europe/Paris:20250202T080000
DTEND;TZID=Europe/Paris:20250202T170000
DTSTAMP:20260424T201421
CREATED:20250414T101906Z
LAST-MODIFIED:20250415T095729Z
UID:2909-1738483200-1738515600@maatmov.com
SUMMARY:Et si un film pouvait bousculer notre vision de l'Histoire ?
DESCRIPTION:Le 2 février à Châteaubriant\, venez assister à la projection du documentaire Tantura\, qui explore les tabous liés à la guerre de 1948 en Palestine. Un ciné-débat ouvert suivra pour réfléchir ensemble à la mémoire\, à l’oubli et aux récits historiques.
URL:https://maatmov.com/evenement/et-si-un-film-pouvait-bousculer-notre-vision-de-lhistoire/
LOCATION:Châteaubriant\, Emeraude Cinemas - 21 Rue de la Vernisserie\, Châteaubriant\, 44110\, France
CATEGORIES:Ciné–débats
ATTACH;FMTTYPE=image/jpeg:https://maatmov.com/wp-content/uploads/2025/04/maatmov-default-featured-img.jpg
END:VEVENT
BEGIN:VEVENT
DTSTART;TZID=Europe/Paris:20250213T080000
DTEND;TZID=Europe/Paris:20250213T170000
DTSTAMP:20260424T201421
CREATED:20250414T115453Z
LAST-MODIFIED:20250415T095723Z
UID:2929-1739433600-1739466000@maatmov.com
SUMMARY:Vous aimez l'Histoire\, les débats et le cinéma ?
DESCRIPTION:Le 13 février\, au Creusot\, découvrez Tantura\, un documentaire percutant qui interroge la mémoire israélienne autour de la Nakba.\nProjection suivie d’un débat animé par des invités du monde académique.\nVenez échanger\, questionner et enrichir le débat collectif.
URL:https://maatmov.com/evenement/vous-aimez-lhistoire-les-debats-et-le-cinema/
LOCATION:Le Creusot\, Cinéma Le Morvan - 8 Rue de la Verrerie\, Le Creusot\, 71200\, France
CATEGORIES:Ciné–débats
ATTACH;FMTTYPE=image/jpeg:https://maatmov.com/wp-content/uploads/2025/04/maatmov-default-featured-img.jpg
END:VEVENT
END:VCALENDAR