BEGIN:VCALENDAR
VERSION:2.0
PRODID:-//MaâtMov - ECPv6.15.18//NONSGML v1.0//EN
CALSCALE:GREGORIAN
METHOD:PUBLISH
X-WR-CALNAME:MaâtMov
X-ORIGINAL-URL:https://maatmov.com
X-WR-CALDESC:Évènements pour MaâtMov
REFRESH-INTERVAL;VALUE=DURATION:PT1H
X-Robots-Tag:noindex
X-PUBLISHED-TTL:PT1H
BEGIN:VTIMEZONE
TZID:Europe/Paris
BEGIN:DAYLIGHT
TZOFFSETFROM:+0100
TZOFFSETTO:+0200
TZNAME:CEST
DTSTART:20240331T010000
END:DAYLIGHT
BEGIN:STANDARD
TZOFFSETFROM:+0200
TZOFFSETTO:+0100
TZNAME:CET
DTSTART:20241027T010000
END:STANDARD
BEGIN:DAYLIGHT
TZOFFSETFROM:+0100
TZOFFSETTO:+0200
TZNAME:CEST
DTSTART:20250330T010000
END:DAYLIGHT
BEGIN:STANDARD
TZOFFSETFROM:+0200
TZOFFSETTO:+0100
TZNAME:CET
DTSTART:20251026T010000
END:STANDARD
BEGIN:DAYLIGHT
TZOFFSETFROM:+0100
TZOFFSETTO:+0200
TZNAME:CEST
DTSTART:20260329T010000
END:DAYLIGHT
BEGIN:STANDARD
TZOFFSETFROM:+0200
TZOFFSETTO:+0100
TZNAME:CET
DTSTART:20261025T010000
END:STANDARD
END:VTIMEZONE
BEGIN:VEVENT
DTSTART;TZID=Europe/Paris:20251010T200000
DTEND;TZID=Europe/Paris:20251010T220000
DTSTAMP:20260424T161523
CREATED:20250922T113749Z
LAST-MODIFIED:20250922T113749Z
UID:3828-1760126400-1760133600@maatmov.com
SUMMARY:Calais : projection-débat du documentaire "Innocence" au Cinéma Alhambra
DESCRIPTION:Le Cinéma Alhambra de Calais invite les spectateurs à une soirée exceptionnelle le 10 octobre 2025 à 20h avec la projection-débat du documentaire « Innocence » de Guy Davidi. \nLe réalisateur israélien montre comment les opérations de communication et de sensibilisation de l’armée influencent la jeunesse\, l’incitant à s’insérer dans un environnement militariste et confronté aux conflits. \nAu-delà de la projection\, l’événement est conçu comme un temps d’échange et de réflexion\, où le public pourra dialoguer avec des intervenants et approfondir les questions soulevées par le film. \nUne occasion de combiner cinéma et débat\, pour tous ceux qui souhaitent prolonger la réflexion après l’écran.
URL:https://maatmov.com/evenement/calais-projection-debat-du-documentaire-innocence-au-cinema-alhambra/
LOCATION:Cinéma Alhambra\, 2 Rue Jean Jaurès\, Calais\, 62100\, France
CATEGORIES:Ciné–débats
ATTACH;FMTTYPE=image/jpeg:https://maatmov.com/wp-content/uploads/2025/04/maatmov-default-featured-img.jpg
END:VEVENT
END:VCALENDAR