BEGIN:VCALENDAR
VERSION:2.0
PRODID:-//MaâtMov - ECPv6.15.18//NONSGML v1.0//EN
CALSCALE:GREGORIAN
METHOD:PUBLISH
X-ORIGINAL-URL:https://maatmov.com
X-WR-CALDESC:Évènements pour MaâtMov
REFRESH-INTERVAL;VALUE=DURATION:PT1H
X-Robots-Tag:noindex
X-PUBLISHED-TTL:PT1H
BEGIN:VTIMEZONE
TZID:Europe/Paris
BEGIN:DAYLIGHT
TZOFFSETFROM:+0100
TZOFFSETTO:+0200
TZNAME:CEST
DTSTART:20240331T010000
END:DAYLIGHT
BEGIN:STANDARD
TZOFFSETFROM:+0200
TZOFFSETTO:+0100
TZNAME:CET
DTSTART:20241027T010000
END:STANDARD
BEGIN:DAYLIGHT
TZOFFSETFROM:+0100
TZOFFSETTO:+0200
TZNAME:CEST
DTSTART:20250330T010000
END:DAYLIGHT
BEGIN:STANDARD
TZOFFSETFROM:+0200
TZOFFSETTO:+0100
TZNAME:CET
DTSTART:20251026T010000
END:STANDARD
BEGIN:DAYLIGHT
TZOFFSETFROM:+0100
TZOFFSETTO:+0200
TZNAME:CEST
DTSTART:20260329T010000
END:DAYLIGHT
BEGIN:STANDARD
TZOFFSETFROM:+0200
TZOFFSETTO:+0100
TZNAME:CET
DTSTART:20261025T010000
END:STANDARD
END:VTIMEZONE
BEGIN:VEVENT
DTSTART;TZID=Europe/Paris:20251010T200000
DTEND;TZID=Europe/Paris:20251010T220000
DTSTAMP:20260424T144948
CREATED:20250922T113749Z
LAST-MODIFIED:20250922T113749Z
UID:3828-1760126400-1760133600@maatmov.com
SUMMARY:Calais : projection-débat du documentaire "Innocence" au Cinéma Alhambra
DESCRIPTION:Le Cinéma Alhambra de Calais invite les spectateurs à une soirée exceptionnelle le 10 octobre 2025 à 20h avec la projection-débat du documentaire « Innocence » de Guy Davidi. \nLe réalisateur israélien montre comment les opérations de communication et de sensibilisation de l’armée influencent la jeunesse\, l’incitant à s’insérer dans un environnement militariste et confronté aux conflits. \nAu-delà de la projection\, l’événement est conçu comme un temps d’échange et de réflexion\, où le public pourra dialoguer avec des intervenants et approfondir les questions soulevées par le film. \nUne occasion de combiner cinéma et débat\, pour tous ceux qui souhaitent prolonger la réflexion après l’écran.
URL:https://maatmov.com/evenement/calais-projection-debat-du-documentaire-innocence-au-cinema-alhambra/
LOCATION:Cinéma Alhambra\, 2 Rue Jean Jaurès\, Calais\, 62100\, France
CATEGORIES:Ciné–débats
ATTACH;FMTTYPE=image/jpeg:https://maatmov.com/wp-content/uploads/2025/04/maatmov-default-featured-img.jpg
END:VEVENT
BEGIN:VEVENT
DTSTART;TZID=Europe/Paris:20251011T193000
DTEND;TZID=Europe/Paris:20251011T213000
DTSTAMP:20260424T144948
CREATED:20250915T082343Z
LAST-MODIFIED:20250916T172629Z
UID:3792-1760211000-1760218200@maatmov.com
SUMMARY:Innocence : une soirée cinéma et débat à Grande-Synthe
DESCRIPTION:Le lundi 10 novembre 2025 à 19h30\, le 9 place de la Haye à Grande-Synthe ouvrira ses portes pour la projection du documentaire Innocence de Guy Davidi. \nÀ travers ce film\, le réalisateur retrace le destin de jeunes enrôlés dans l’armée israélienne qui se sont suicidés pendant leur service. Guy Davidi mêle les témoignages des familles de cinq de ces soldats\, des scènes d’enseignement dans une école primaire près de Gaza\, des images issues de Youtube et des films de soldats autorisés par l’armée car servant sa propagande. \nLa projection sera suivie d’un débat ouvert au public\, invitant chacun à partager ses réflexions et à engager une discussion collective autour de thèmes universels tels que la guerre\, la jeunesse et l’influence des récits qui façonnent nos sociétés. \n 
URL:https://maatmov.com/evenement/innocence-une-soiree-cinema-et-debat-a-grande-synthe/
LOCATION:Association Justice & Paix\, 14 Rue Hubert Lyautey (Saint-Joseph)\, Grande-Synthe\, 59760\, France
CATEGORIES:Ciné–débats
ATTACH;FMTTYPE=image/jpeg:https://maatmov.com/wp-content/uploads/2025/04/maatmov-default-featured-img.jpg
END:VEVENT
BEGIN:VEVENT
DTSTART;TZID=Europe/Paris:20251013T160000
DTEND;TZID=Europe/Paris:20251013T183000
DTSTAMP:20260424T144948
CREATED:20250922T114307Z
LAST-MODIFIED:20250922T114307Z
UID:3833-1760371200-1760380200@maatmov.com
SUMMARY:Calais : projection-débat du documentaire "Innocence" au Cinéma Alhambra
DESCRIPTION:Le Cinéma Alhambra de Calais accueille le lundi 13 octobre 2025 à 16h une projection-débat exceptionnelle du documentaire « Innocence » de Guy Davidi. Le film retrace le parcours d’enfants confrontés à la préparation militaire\, explorant leur résistance et les pressions auxquelles ils sont soumis. \nCette projection sera suivie d’un temps d’échange avec des intervenants\, permettant au public de poser ses questions et de débattre des thématiques sensibles soulevées par le documentaire. \nUne occasion de conjuguer cinéma et réflexion\, idéale pour ceux qui souhaitent prolonger le dialogue et partager leurs points de vue après la séance.
URL:https://maatmov.com/evenement/calais-projection-debat-du-documentaire-innocence-au-cinema-alhambra-2/
LOCATION:Cinéma Alhambra\, 2 Rue Jean Jaurès\, Calais\, 62100\, France
CATEGORIES:Ciné–débats
ATTACH;FMTTYPE=image/jpeg:https://maatmov.com/wp-content/uploads/2025/04/maatmov-default-featured-img.jpg
END:VEVENT
BEGIN:VEVENT
DTSTART;TZID=Europe/Paris:20251014T183000
DTEND;TZID=Europe/Paris:20251014T200000
DTSTAMP:20260424T144948
CREATED:20250918T094230Z
LAST-MODIFIED:20250918T094230Z
UID:3810-1760466600-1760472000@maatmov.com
SUMMARY:Projection-débat à Toit Commun : Innocence de Guy Davidi
DESCRIPTION:Le mardi 14 octobre 2025 à 18h30\, l’espace Toit Commun (15 Rue René Lanoy\, 62300 Lens) organise une soirée exceptionnelle autour de la projection du documentaire Innocence de Guy Davidi\, suivie d’un débat ouvert au public. \nCette soirée s’annonce comme un moment fort de la programmation du lieu\, où cinéma et engagement citoyen se rencontrent. L’occasion de partager des regards\, d’interroger des récits et d’ouvrir ensemble une réflexion sur les enjeux soulevés par le film. \nUn film. Un débat. Une soirée pour réfléchir ensemble.
URL:https://maatmov.com/evenement/projection-debat-a-toit-commun-innocence-de-guy-davidi/
LOCATION:Le Toit Commun\, 15 Rue René Lanoy\, Lens\, 62300\, France
CATEGORIES:Ciné–débats
ATTACH;FMTTYPE=image/jpeg:https://maatmov.com/wp-content/uploads/2025/04/maatmov-default-featured-img.jpg
END:VEVENT
BEGIN:VEVENT
DTSTART;TZID=Europe/Paris:20251016T190000
DTEND;TZID=Europe/Paris:20251016T210000
DTSTAMP:20260424T144948
CREATED:20250918T100212Z
LAST-MODIFIED:20250918T100212Z
UID:3813-1760641200-1760648400@maatmov.com
SUMMARY:Projection-débat à la Bourse du Travail de Lille autour du documentaire Innocence
DESCRIPTION:La Bourse du Travail de Lille accueillera prochainement la projection du documentaire Innocence\, réalisé par Guy Davidi\, suivie d’un débat ouvert au public. L’événement se tiendra au 254 boulevard de l’Usine\, à Lille. \nConnu pour ses films engagés\, Guy Davidi s’intéresse dans Innocence aux mécanismes d’enrôlement militaire et à leurs répercussions sur la jeunesse. La soirée\, au-delà de la diffusion du film\, mettra l’accent sur l’échange et la discussion\, avec pour objectif d’offrir un espace de réflexion collective sur les thèmes soulevés par l’œuvre. \nOrganisée dans une volonté de conjuguer culture et débat citoyen\, cette rencontre s’adresse à un large public\, curieux de découvrir un documentaire percutant et de participer à une discussion ouverte sur les enjeux qu’il soulève.
URL:https://maatmov.com/evenement/projection-debat-a-la-bourse-du-travail-de-lille-autour-du-documentaire-innocence/
LOCATION:Bourse du travail de Lille\, 254 Bd de l'Usine\, Lille\, 59800\, France
CATEGORIES:Ciné–débats
ATTACH;FMTTYPE=image/jpeg:https://maatmov.com/wp-content/uploads/2025/04/maatmov-default-featured-img.jpg
END:VEVENT
END:VCALENDAR