BEGIN:VCALENDAR
VERSION:2.0
PRODID:-//MaâtMov - ECPv6.15.18//NONSGML v1.0//EN
CALSCALE:GREGORIAN
METHOD:PUBLISH
X-WR-CALNAME:MaâtMov
X-ORIGINAL-URL:https://maatmov.com
X-WR-CALDESC:Évènements pour MaâtMov
REFRESH-INTERVAL;VALUE=DURATION:PT1H
X-Robots-Tag:noindex
X-PUBLISHED-TTL:PT1H
BEGIN:VTIMEZONE
TZID:Europe/Paris
BEGIN:DAYLIGHT
TZOFFSETFROM:+0100
TZOFFSETTO:+0200
TZNAME:CEST
DTSTART:20250330T010000
END:DAYLIGHT
BEGIN:STANDARD
TZOFFSETFROM:+0200
TZOFFSETTO:+0100
TZNAME:CET
DTSTART:20251026T010000
END:STANDARD
BEGIN:DAYLIGHT
TZOFFSETFROM:+0100
TZOFFSETTO:+0200
TZNAME:CEST
DTSTART:20260329T010000
END:DAYLIGHT
BEGIN:STANDARD
TZOFFSETFROM:+0200
TZOFFSETTO:+0100
TZNAME:CET
DTSTART:20261025T010000
END:STANDARD
BEGIN:DAYLIGHT
TZOFFSETFROM:+0100
TZOFFSETTO:+0200
TZNAME:CEST
DTSTART:20270328T010000
END:DAYLIGHT
BEGIN:STANDARD
TZOFFSETFROM:+0200
TZOFFSETTO:+0100
TZNAME:CET
DTSTART:20271031T010000
END:STANDARD
END:VTIMEZONE
BEGIN:VEVENT
DTSTART;TZID=Europe/Paris:20260512T200000
DTEND;TZID=Europe/Paris:20260512T220000
DTSTAMP:20260424T025945
CREATED:20260421T134347Z
LAST-MODIFIED:20260421T134347Z
UID:4441-1778616000-1778623200@maatmov.com
SUMMARY:Saint-Genis-Laval : le Cinéma La Mouche accueille Gaza Stories\, le regard humain d'Iyad Alasttal sur Gaza
DESCRIPTION:Le mardi 12 mai 2026 à 20h00\, le Cinéma La Mouche (8 rue des Écoles\, Saint-Genis-Laval) propose une soirée de projection autour de Gaza Stories\, une série de courts-métrages du réalisateur palestinien Iyad Alasttal. Une œuvre chorale et sensible qui rompt avec les images de destruction pour restituer Gaza dans toute son humanité. \nÀ travers des séquences de trois à douze minutes\, Iyad Alasttal donne à voir et à entendre les visages et les voix de celles et ceux que les chiffres de la guerre ont rendus invisibles. \nGaza Stories est un acte cinématographique fort : celui de rendre leur singularité à des êtres que la guerre a réduits à des statistiques. \nCinéma de proximité ancré dans la vie culturelle de Saint-Genis-Laval\, La Mouche est un lieu où le cinéma du réel trouve naturellement sa place. Une belle occasion de se retrouver !
URL:https://maatmov.com/evenement/saint-genis-laval-le-cinema-la-mouche-accueille-gaza-stories-le-regard-humain-diyad-alasttal-sur-gaza/
LOCATION:Cinéma La Mouche\, 8 Rue des Écoles\, Saint-Genis-Laval\, 69230\, France
CATEGORIES:Festival,Projections
ATTACH;FMTTYPE=image/jpeg:https://maatmov.com/wp-content/uploads/2025/04/maatmov-default-featured-img.jpg
END:VEVENT
END:VCALENDAR